BEGIN:VCALENDAR
VERSION:2.0
PRODID:-//SVP Sektion Ostermundigen //NONSGML Events //EN
CALSCALE:GREGORIAN
X-WR-CALNAME:SVP Sektion Ostermundigen
BEGIN:VEVENT
CREATED:20240329T120735Z
UID:860
DTEND:20240819T213000
DTSTART:20240819T193000
DTSTAMP:20260422T151812Z
LOCATION:Ostermundigen
DESCRIPTION:im Restaurant National La Favorita (Bernstrasse 93)
SUMMARY:Vorstandssitzung
ORGANIZER:
URL;VALUE=URI:https://www.svp-ostermundigen.ch/termine/vorstandssitzung-3/
TRANSP:OPAQUE
END:VEVENT
END:VCALENDAR
