BEGIN:VCALENDAR
VERSION:2.0
PRODID:-//SVP Sektion Ostermundigen //NONSGML Events //EN
CALSCALE:GREGORIAN
X-WR-CALNAME:SVP Sektion Ostermundigen
BEGIN:VEVENT
CREATED:20260312T140310Z
UID:1516
DTEND:20270308T220000
DTSTART:20270308T193000
DTSTAMP:20260422T163935Z
LOCATION:Ostermundigen\, Restaurant National La Favorita
DESCRIPTION:
SUMMARY:Hauptversammlung
ORGANIZER:SVP Ostermundigen
URL;VALUE=URI:https://www.svp-ostermundigen.ch/termine/hauptversammlung-3/
TRANSP:OPAQUE
END:VEVENT
END:VCALENDAR
