BEGIN:VCALENDAR
VERSION:2.0
PRODID:-//SVP Sektion Ostermundigen //NONSGML Events //EN
CALSCALE:GREGORIAN
X-WR-CALNAME:SVP Sektion Ostermundigen
BEGIN:VEVENT
CREATED:20260312T140142Z
UID:1512
DTEND:20270201T220000
DTSTART:20270201T193000
DTSTAMP:20260422T163934Z
LOCATION:Ostermundigen\, Restaurant National La Favorita
DESCRIPTION:
SUMMARY:Mitgliederversammlung
ORGANIZER:SVP Ostermundigen
URL;VALUE=URI:https://www.svp-ostermundigen.ch/termine/mitgliederversammlung-13/
TRANSP:OPAQUE
END:VEVENT
END:VCALENDAR
