BEGIN:VCALENDAR
VERSION:2.0
PRODID:-//SVP Sektion Ostermundigen //NONSGML Events //EN
CALSCALE:GREGORIAN
X-WR-CALNAME:SVP Sektion Ostermundigen
BEGIN:VEVENT
CREATED:20260312T140046Z
UID:1510
DTEND:20270111T220000
DTSTART:20270111T193000
DTSTAMP:20260422T164012Z
LOCATION:Ostermundigen\, Restaurant National La Favorita
DESCRIPTION:
SUMMARY:Vorstandssitzung
ORGANIZER:SVP Ostermundigen
URL;VALUE=URI:https://www.svp-ostermundigen.ch/termine/vorstandssitzung-14/
TRANSP:OPAQUE
END:VEVENT
END:VCALENDAR
