BEGIN:VCALENDAR
VERSION:2.0
PRODID:-//SVP Sektion Ostermundigen //NONSGML Events //EN
CALSCALE:GREGORIAN
X-WR-CALNAME:SVP Sektion Ostermundigen
BEGIN:VEVENT
CREATED:20260312T135952Z
UID:1508
DTEND:20261210T210000
DTSTART:20261210T180000
DTSTAMP:20260422T163907Z
LOCATION:Ostermundigen\, Tell's Saal
DESCRIPTION:
SUMMARY:Sitzung Grosser Gemeinderat
ORGANIZER:Gemeinde Ostermundigen
URL;VALUE=URI:https://www.svp-ostermundigen.ch/termine/sitzung-grosser-gemeinderat-16/
TRANSP:OPAQUE
END:VEVENT
END:VCALENDAR
