BEGIN:VCALENDAR
VERSION:2.0
PRODID:-//SVP Sektion Ostermundigen //NONSGML Events //EN
CALSCALE:GREGORIAN
X-WR-CALNAME:SVP Sektion Ostermundigen
BEGIN:VEVENT
CREATED:20260312T135756Z
UID:1502
DTEND:20261123T233000
DTSTART:20261123T180000
DTSTAMP:20260422T163909Z
LOCATION:Ostermundigen\, Restaurant National La Favorita
DESCRIPTION:
SUMMARY:Zibelemärit-Höck mit Kegeln
ORGANIZER:SVP Ostermundigen
URL;VALUE=URI:https://www.svp-ostermundigen.ch/termine/zibelemaerit-hoeck-mit-kegeln-3/
TRANSP:OPAQUE
END:VEVENT
END:VCALENDAR
