BEGIN:VCALENDAR
VERSION:2.0
PRODID:-//SVP Sektion Ostermundigen //NONSGML Events //EN
CALSCALE:GREGORIAN
X-WR-CALNAME:SVP Sektion Ostermundigen
BEGIN:VEVENT
CREATED:20260312T135615Z
UID:1498
DTEND:20261109T210000
DTSTART:20261109T190000
DTSTAMP:20260422T163928Z
LOCATION:Ostermundigen\, Restaurant National La Favorita
DESCRIPTION:
SUMMARY:Fraktionssitzung
ORGANIZER:SVP Ostermundigen
URL;VALUE=URI:https://www.svp-ostermundigen.ch/termine/fraktionssitzung-15/
TRANSP:OPAQUE
END:VEVENT
END:VCALENDAR
