BEGIN:VCALENDAR
VERSION:2.0
PRODID:-//SVP Sektion Ostermundigen //NONSGML Events //EN
CALSCALE:GREGORIAN
X-WR-CALNAME:SVP Sektion Ostermundigen
BEGIN:VEVENT
CREATED:20260312T135534Z
UID:1496
DTEND:20261102T220000
DTSTART:20261102T193000
DTSTAMP:20260422T163935Z
LOCATION:Ostermundigen\, Restaurant National La Favorita
DESCRIPTION:
SUMMARY:Mitgliederversammlung
ORGANIZER:SVP Ostermundigen
URL;VALUE=URI:https://www.svp-ostermundigen.ch/termine/mitgliederversammlung-12/
TRANSP:OPAQUE
END:VEVENT
END:VCALENDAR
