BEGIN:VCALENDAR
VERSION:2.0
PRODID:-//SVP Sektion Ostermundigen //NONSGML Events //EN
CALSCALE:GREGORIAN
X-WR-CALNAME:SVP Sektion Ostermundigen
BEGIN:VEVENT
CREATED:20260312T135346Z
UID:1492
DTEND:20261013T210000
DTSTART:20261013T190000
DTSTAMP:20260422T163929Z
LOCATION:Ostermundigen\, Restaurant National La Favorita
DESCRIPTION:
SUMMARY:Fraktionssitzung
ORGANIZER:SVP Ostermundigen
URL;VALUE=URI:https://www.svp-ostermundigen.ch/termine/fraktionssitzung-14/
TRANSP:OPAQUE
END:VEVENT
END:VCALENDAR
