BEGIN:VCALENDAR
VERSION:2.0
PRODID:-//SVP Sektion Ostermundigen //NONSGML Events //EN
CALSCALE:GREGORIAN
X-WR-CALNAME:SVP Sektion Ostermundigen
BEGIN:VEVENT
CREATED:20260312T135259Z
UID:1490
DTEND:20261012T220000
DTSTART:20261012T193000
DTSTAMP:20260422T163930Z
LOCATION:Ostermundigen\, Restaurant National La Favorita
DESCRIPTION:
SUMMARY:Vorstandssitzung
ORGANIZER:SVP Ostermundigen
URL;VALUE=URI:https://www.svp-ostermundigen.ch/termine/vorstandssitzung-13/
TRANSP:OPAQUE
END:VEVENT
END:VCALENDAR
