BEGIN:VCALENDAR
VERSION:2.0
PRODID:-//SVP Sektion Ostermundigen //NONSGML Events //EN
CALSCALE:GREGORIAN
X-WR-CALNAME:SVP Sektion Ostermundigen
BEGIN:VEVENT
CREATED:20260312T135149Z
UID:1488
DTEND:20260927T000000
DTSTART:20260927T000000
DTSTAMP:20260422T164011Z
LOCATION:
DESCRIPTION:
SUMMARY:Volksabstimmungen
ORGANIZER:
URL;VALUE=URI:https://www.svp-ostermundigen.ch/termine/volksabstimmungen-11/
TRANSP:OPAQUE
END:VEVENT
END:VCALENDAR
